BEGIN:VCALENDAR
VERSION:2.0
PRODID:-//METROPOLARITY - ECPv6.10.2//NONSGML v1.0//EN
CALSCALE:GREGORIAN
METHOD:PUBLISH
X-WR-CALNAME:METROPOLARITY
X-ORIGINAL-URL:https://metropolarity.net
X-WR-CALDESC:Events for METROPOLARITY
REFRESH-INTERVAL;VALUE=DURATION:PT1H
X-Robots-Tag:noindex
X-PUBLISHED-TTL:PT1H
BEGIN:VTIMEZONE
TZID:America/New_York
BEGIN:DAYLIGHT
TZOFFSETFROM:-0500
TZOFFSETTO:-0400
TZNAME:EDT
DTSTART:20130310T070000
END:DAYLIGHT
BEGIN:STANDARD
TZOFFSETFROM:-0400
TZOFFSETTO:-0500
TZNAME:EST
DTSTART:20131103T060000
END:STANDARD
END:VTIMEZONE
BEGIN:VEVENT
DTSTART;TZID=America/New_York:20130803T160000
DTEND;TZID=America/New_York:20130803T180000
DTSTAMP:20260423T151147
CREATED:20130711T224609Z
LAST-MODIFIED:20130711T224609Z
UID:984-1375545600-1375552800@metropolarity.net
SUMMARY:trouble: queer writers reading
DESCRIPTION:PART OF THE PHREAK N QUEER ARTS FESTIVAL COMES TROUBLE: QUEER WRITERS READING \nfeaturing: \nAlex Smith & Crew from Metropolarity \nTim Trace Peterson\n(co-editor of Troubling the Line: Trans and Genderqueer Poetry and Poetics) \nChe Gossett \nPatrick Lucy \nhosted by Marion Bell \npart of Phreak N’ Queer Arts & Music Festival 2013 \ndonations suggested\, absolutely no one turned away for lack of funds \nsee you there!
URL:https://metropolarity.net/event/trouble-queer-writers-reading/
LOCATION:Wooden Shoe Books & Records\, 704 South Street\, Philadelphia\, 19147\, United States
CATEGORIES:Readings & Performances
ATTACH;FMTTYPE=image/jpeg:https://metropolarity.net/wp-content/uploads/2013/07/trouble-reading.jpg
END:VEVENT
BEGIN:VEVENT
DTSTART;TZID=America/New_York:20130721T140000
DTEND;TZID=America/New_York:20130721T220000
DTSTAMP:20260423T151147
CREATED:20130712T195032Z
LAST-MODIFIED:20130712T195032Z
UID:1002-1374415200-1374444000@metropolarity.net
SUMMARY:3rd Annual ROCKERS BBQ day #3: Workshop & Zine Fest
DESCRIPTION:2PM -4PM: WORKSHOPS \n-YOGA WITH THE HOUSE OF HAYES\n-CAPOEIRA WITH LOBO MA\n-STOP-MOTION DIY STORIES WITH HOMEGROWN.ORG\n-CIRQUE MANIKK\n-QUANTUM TIME CAPSULE – [RSVP@afrofuturistaffair@gmail]\n-SCREEN PRINTING & PATCH MAKING WITH PHILLYPRINTWORKS \n4PM -6PM: POP UP MOVIES & BBQ & ZINE FEST \nPOP UP MOVIE: SPACE IS THE PLACE\nPRESENTED BY MYTHMEDIA21 & LIBERATION MOVIE NIGHT \nBBQ PRESENTED BY MMGZ \nZINE FEST FEATURING\n-HOUSE OF HAYES\n-METROPOLARITY\n-ROCKERS\n-MOORMOTHERGODDESS  \n\n6PM -10ISH: THE SHOW/LIVE PERFORMANCES \nFEATURING \nTHE COOLOTS\nSLAPDASH SOUNDSYSTEM\nNEWSOF YOUR DEPARTURE: http://newsofyourdeparture.bandcamp.com/\nDAQUAN MOTLEY\nGIRLS DRESSED AS GIRLS\nAND SPECIAL GUEST TBA\n\nROCKERS CLOSET POP UP SHOP\nPHILLY PRINTWORKS POP UP SHOP \nPROJECTIONS BY SARAH KIM (PHILLYPRINTWORKS INTERN)
URL:https://metropolarity.net/event/3rd-annual-rockers-bbq-day-3-workshop-zine-fest/
LOCATION:House of Hayes\, 1822 N Hancock St\, Philadelphia\, PA\, 19122\, United States
CATEGORIES:Afrofuturist Sciences,Music Shows,Parties,Readings & Performances,Workshops,Zine & Book Events
ATTACH;FMTTYPE=image/jpeg:https://metropolarity.net/wp-content/uploads/2013/07/rockersbbqday3.jpg
ORGANIZER;CN="ROCKERS":MAILTO:sdfsbooking@gmail.com
END:VEVENT
BEGIN:VEVENT
DTSTART;TZID=America/New_York:20130511T190000
DTEND;TZID=America/New_York:20130511T220000
DTSTAMP:20260423T151147
CREATED:20130418T023119Z
LAST-MODIFIED:20130418T023119Z
UID:797-1368298800-1368309600@metropolarity.net
SUMMARY:RADAR+++
DESCRIPTION:Alex Smith’s newest: SCI-FI/GENRE FICTION READING AT LOCUST MOON COMICS! \nWorking in the medium of comics\, there’s generally two sides. First\, the vibrant art that allows for immediate\, tangible recognition and expression of ideas. the absolute essential element that makes sequential art become “comics” is how it’s drawn. It’s a visual medium and we are ecstatic about that! \nBut secondly\, there’s also the writing. At a comic book convention\, no one stands in line to pay $100 for Grant Morisson or Neil Gaiman to write them a couple paragraphs of Batman fanfic. No\, the writing in comics is secondary\, even though without its best practicioners\, comics as a viable expressive medium would have floundered a long time ago. \nSo\, the idea occurs that both mediums should be integrated at comic book gatherings. But how? It’s easy for an artist to show a fan\, potential publisher\, or retailer a few panels or pin ups of their art. It can be felt in the three seconds it takes the viewer to simply view the art. We get it. But again\, for writers\, simply saying\, “I can write” isn’t enough\, yet no one wants to spend precious minutes at a convention reading someone’s story they’ve typed and printed out or posted to their iPAD (I know from experience..ugh.) Thus\, I propose a reading! It’s quite simple: Writers bring one of their best pieces of fiction\, walk up to the stage\, and read to the audience\, captivating them in the same manner as an artist would: with a visceral\, permeable rendering of their words.\n\nOur reading\, titled RADAR+++\, would allow for writers in the sci-fi\, super hero\, action\, crime\, spy\, fantasy\, horror genres to present their work\, much like a poetry reading. There’s a proven audience for this\, if recent attendance and participation in the Laser Life sci fi readings and the Afro-Futurist Affair gatherings are proof. \nFormat:\nEach reader signs up beforehand\, preferably online\, after submitting a portion of their piece. We want this to be entertaining and a showcase for talent. Then we allot ten minutes reading time for each participant. This event should last two hours (the length of a good movie)\, and while that may seem like a long time\, it really goes by fairly quickly.  \nSo let us know if you’re down to read for us!
URL:https://metropolarity.net/event/radar/
LOCATION:Locust Moon Comics\, 34 South 40th Street\, Philadelphia\, PA\, 19104\, United States
CATEGORIES:Readings & Performances
ORGANIZER;CN="Alex Smith":MAILTO:theyarebirds@hotmail.com
END:VEVENT
BEGIN:VEVENT
DTSTART;TZID=America/New_York:20130426T190000
DTEND;TZID=America/New_York:20130426T210000
DTSTAMP:20260423T151147
CREATED:20130308T040248Z
LAST-MODIFIED:20130308T040248Z
UID:670-1367002800-1367010000@metropolarity.net
SUMMARY:The Laser Life
DESCRIPTION:Queer empowered speculative fiction reading series.  \nTHE LASER LIFE is near and dear to our hearts. You’ll know why once you attend. \nThis episode the whole crew will be reading\, plus Paul Walker of SGNLS. \nSee some info about past Laser Life readings here or peep videos from previous readings here. \nFACEBOOK RSVP
URL:https://metropolarity.net/event/the-laser-life/
LOCATION:A-Space Anarchist Community Center\, 47th and Baltimore Avenues\, Philadelphia\, PA\, 19143\, United States
CATEGORIES:Readings & Performances
ATTACH;FMTTYPE=image/png:https://metropolarity.net/wp-content/uploads/2013/04/laser-life-26-apr-2013.png
ORGANIZER;CN="Alex Smith":MAILTO:theyarebirds@hotmail.com
END:VEVENT
BEGIN:VEVENT
DTSTART;TZID=America/New_York:20130425T200000
DTEND;TZID=America/New_York:20130425T230000
DTSTAMP:20260423T151147
CREATED:20130418T024115Z
LAST-MODIFIED:20130418T024115Z
UID:800-1366920000-1366930800@metropolarity.net
SUMMARY:Octavia City
DESCRIPTION:Black Tribbles and Stepping Into Tomorrow present\nOCTAVIA CITY\, original tales of Afrofuturism\,\nw/special guest Rasheedah Phillips of The AfroFuturist Affair!  \nThursday April 25 8-11pm\nLIVE BROADCAST on G-town Radio\nCo-hosted by The Black Tribbles and Gabriel Bryant of Stepping Into Tomorrow.  \nWe are turning over 3 hours of airtime for original Afrofuturistic storytelling! Inspired by the work of the legendary author Octavia Butler\, OCTAVIA CITY is the first in a series of yearlong celebration of Afrofuturism storytelling. \nWANT TO BE INVOLVED? \nThe details are simple. Story submissions are due by Thursday April 18th. They can be emailed in DOC or PDF format to blacktribbles@gmail.com.  \nWe are looking for writers of original short tales with an Afrofuturistic theme who would like the opportunity to a) read their story to the audience live on air or b) have it read by a professional actor (please indicate your preference with your submission). We ask that the tales time out no longer than 12 minutes in length and do not contain graphic sexual imagery.  \nThere is no cap on the number of stories we’re accepting. Depending on audience response\, this will be a recurring event on our show. However only those selected for this upcoming broadcast will be contacted regarding their entries.  \nFeel free to share the information with anyone you believe would be interested in participating in the event. \nPromo flyer illustration – ‘PACIFICS’ by Mattahan http://mattahan.deviantart.com/
URL:https://metropolarity.net/event/octavia-city/
LOCATION:GTOWNRADIO\, 24 Maplewood Mall\, Philadelphia\, PA\, 19144\, United States
CATEGORIES:Readings & Performances
ATTACH;FMTTYPE=image/jpeg:https://metropolarity.net/wp-content/uploads/2013/04/octavia-city.jpg
ORGANIZER;CN="Black Tribbles":MAILTO:blacktribbles@gmail.com
END:VEVENT
BEGIN:VEVENT
DTSTART;TZID=America/New_York:20130403T190000
DTEND;TZID=America/New_York:20130403T210000
DTSTAMP:20260423T151147
CREATED:20130322T035601Z
LAST-MODIFIED:20130322T035601Z
UID:701-1365015600-1365022800@metropolarity.net
SUMMARY:Imogen Binnie's NEVADA Book Tour Reading
DESCRIPTION:RAS MASHRAMANI\nALEX SMITH\nMAGGIE EIGHTEEN \nWILL BE READING WITH RED DURKIN\nAND\nIMOGEN BINNIE\nAS SHE TOURS THE COUNTRY WITH HER NEW BOOK\, NEVADA\, FROM TOPSIDE PRESS\n\nBETTER DETAILS SOON
URL:https://metropolarity.net/event/imogen-binnies-nevada-book-tour-reading/
LOCATION:A-Space Anarchist Community Center\, 47th and Baltimore Avenues\, Philadelphia\, 19143\, United States
CATEGORIES:Readings & Performances
ATTACH;FMTTYPE=image/jpeg:https://metropolarity.net/wp-content/uploads/2013/03/nevada-sped.jpg
END:VEVENT
END:VCALENDAR