BEGIN:VCALENDAR
VERSION:2.0
PRODID:-//METROPOLARITY - ECPv6.10.2//NONSGML v1.0//EN
CALSCALE:GREGORIAN
METHOD:PUBLISH
X-ORIGINAL-URL:https://metropolarity.net
X-WR-CALDESC:Events for METROPOLARITY
REFRESH-INTERVAL;VALUE=DURATION:PT1H
X-Robots-Tag:noindex
X-PUBLISHED-TTL:PT1H
BEGIN:VTIMEZONE
TZID:America/New_York
BEGIN:DAYLIGHT
TZOFFSETFROM:-0500
TZOFFSETTO:-0400
TZNAME:EDT
DTSTART:20130310T070000
END:DAYLIGHT
BEGIN:STANDARD
TZOFFSETFROM:-0400
TZOFFSETTO:-0500
TZNAME:EST
DTSTART:20131103T060000
END:STANDARD
BEGIN:DAYLIGHT
TZOFFSETFROM:-0500
TZOFFSETTO:-0400
TZNAME:EDT
DTSTART:20140309T070000
END:DAYLIGHT
BEGIN:STANDARD
TZOFFSETFROM:-0400
TZOFFSETTO:-0500
TZNAME:EST
DTSTART:20141102T060000
END:STANDARD
BEGIN:DAYLIGHT
TZOFFSETFROM:-0500
TZOFFSETTO:-0400
TZNAME:EDT
DTSTART:20150308T070000
END:DAYLIGHT
BEGIN:STANDARD
TZOFFSETFROM:-0400
TZOFFSETTO:-0500
TZNAME:EST
DTSTART:20151101T060000
END:STANDARD
END:VTIMEZONE
BEGIN:VEVENT
DTSTART;TZID=America/New_York:20150221T130000
DTEND;TZID=America/New_York:20150221T220000
DTSTAMP:20260423T062244
CREATED:20150127T230944Z
LAST-MODIFIED:20150127T230944Z
UID:1599-1424523600-1424556000@metropolarity.net
SUMMARY:SINGULARITY: THE ONE-PIECE FEST
DESCRIPTION:o N e \nI was talking about time. It’s so hard for me to believe in it. Some things go. Pass on. Some things just stay. I used to think it was my rememory. You know. Some things you forget. Other things you never do. But it’s not. Places\, places are still there. If a house burns down\, it’s gone\, but the place—the picture of it—stays\, and not just in my rememory\, but out there\, in the world. What I remember is a picture floating around out there outside my head. I mean\, even if I don’t think it\, even if I die\, the picture of what I did\, or knew\, or saw is still out there. Right in the place where it happened \nALEX SMITH\nNEGATIVE INFINITY\nWILL\nLOW MOAN HOVER ( EX BY V)\nDIANNE (TROPHY WIFE)\nDOG DAYS\nST. SKRIBBLY LACROIX\nFLESH PRINCE\nSHERMAN\nTREE NAMED TURTLE\nJUDAH THE OX\nK.I.N\nOHM\nLIVING\nMMGZ\nWHAT NERVE\n—————————————————————————–\nif you want to distro zines / hit up sdfsbooking@gmail\n—————————————————————————– \nmore info coming soon
URL:https://metropolarity.net/event/singularity-the-one-piece-fest/
LOCATION:Cha-Cha’razzi\, 2639 Poplar Street\, Philadelphia\, PA\, 19130\, United States
CATEGORIES:Music Shows,Readings & Performances,Some Other Jawns
ATTACH;FMTTYPE=image/jpeg:https://metropolarity.net/wp-content/uploads/2015/01/singularity-1-piece-fest.jpg
END:VEVENT
BEGIN:VEVENT
DTSTART;TZID=America/New_York:20150130T180000
DTEND;TZID=America/New_York:20150130T220000
DTSTAMP:20260423T062244
CREATED:20150127T210740Z
LAST-MODIFIED:20150127T210740Z
UID:1596-1422640800-1422655200@metropolarity.net
SUMMARY:Rest in Power Brandon Tate-Brown. Family support benefit
DESCRIPTION:rest in power Brandon Tate-Brown. family support benefit this Friday at #lavaspace
URL:https://metropolarity.net/event/rest-in-power-brandon-tate-brown-family-support-benefit/
LOCATION:LAVA zone\, 4134 Lancaster Ave\, Philadelphia\, 19104\, United States
CATEGORIES:Fundraisers,Music Shows
ATTACH;FMTTYPE=image/jpeg:https://metropolarity.net/wp-content/uploads/2015/01/brandontatebrownfundraiser.jpg
END:VEVENT
BEGIN:VEVENT
DTSTART;TZID=America/New_York:20141215T200000
DTEND;TZID=America/New_York:20141215T230000
DTSTAMP:20260423T062244
CREATED:20141106T055931Z
LAST-MODIFIED:20141106T055931Z
UID:1489-1418673600-1418684400@metropolarity.net
SUMMARY:Fhloston Paradigm + Rasheedah Phillips + Robotique
DESCRIPTION:Fhloston Paradigm (King Britt / Pia Ercole / Mike Todd) with our own Rasheedah Phillips and Robotique sci-fi DJ set. \nVery nice.
URL:https://metropolarity.net/event/fhloston-paradigm-rasheedah-phillips-robotique/
LOCATION:Johnny Brenda’s\, 1201 Frankford Avenue\, Philadelphia\, PA\, 19125\, United States
CATEGORIES:Music Shows,Readings & Performances
ATTACH;FMTTYPE=image/jpeg:https://metropolarity.net/wp-content/uploads/2014/11/RPwithKBatJB2014.jpg
END:VEVENT
BEGIN:VEVENT
DTSTART;TZID=America/New_York:20141119T210000
DTEND;TZID=America/New_York:20141119T210000
DTSTAMP:20260423T062244
CREATED:20141106T062149Z
LAST-MODIFIED:20141106T062149Z
UID:1494-1416430800-1416430800@metropolarity.net
SUMMARY:BLACK HOLOGRAPHIC MEMORY Last ROCKERS of 2014
DESCRIPTION:The Afrofuturist Affair x Black Quantum Futurism \nBLACK HOLOGRAPHIC MEMORY \npresents \nROCKERS!\nfinal of 2014 \nfeaturing \nChiuatl Ce\nThe Mighty Paradocs\nSunny Ali & The Kid\nBells Roar\nKing Azaz \nwith renegade readings by\nSt. Skribbly LaCroix\nMoor Mother Goddess \nAT DAHLAK PARADISE NOVEMBER 19TH. 9PM
URL:https://metropolarity.net/event/black-holographic-memory-last-rockers-of-2014/
LOCATION:Dahlak Paradise\, 4708 Baltimore Avenue\, Philadelphia\, PA\, 19143\, United States
CATEGORIES:Music Shows
ATTACH;FMTTYPE=image/jpeg:https://metropolarity.net/wp-content/uploads/2014/11/bhm-rockers.jpg
ORGANIZER;CN="ROCKERS":MAILTO:sdfsbooking@gmail.com
END:VEVENT
BEGIN:VEVENT
DTSTART;TZID=America/New_York:20140524T200000
DTEND;TZID=America/New_York:20140524T230000
DTSTAMP:20260423T062244
CREATED:20140513T000050Z
LAST-MODIFIED:20140513T000050Z
UID:1381-1400961600-1400972400@metropolarity.net
SUMMARY:Hot Tears :: Alex Smith :: Ex. By V. :: Little Waist :: Marlo Reynolds
DESCRIPTION:you really don’t want to miss a show w/ a lineup like this…. \nHot Tears (Olympia based)\nhttp://hottears.bandcamp.com/ \nLittle Waist (Brooklyn queercore / transcore )\nhttp://littlewaist.bandcamp.com/ \nAlex Smith \nMarlo Reynolds\nhttp://marloreynolds.bandcamp.com/\n\nEx. By V.\nhttp://exbyv.bandcamp.com/ \nspace is right @ S. 52nd & Cedar in w. philly\ndoors @ 7:30 pm\nshow will start promptly at 8:00pm! \n3 to 5$ sliding scale\nno one turned away for lack of funds\nall ages \nsee you soon!!
URL:https://metropolarity.net/event/hot-tears-alex-smith-ex-by-v-little-waist-marlo-reynolds/
LOCATION:Eris Temple Arts\, 602 S 52nd Street\, Philadelphia\, PA\, 19143\, United States
CATEGORIES:Music Shows
ATTACH;FMTTYPE=image/jpeg:https://metropolarity.net/wp-content/uploads/2014/05/alexshow-may24-2014.jpg
END:VEVENT
BEGIN:VEVENT
DTSTART;TZID=America/New_York:20140419T200000
DTEND;TZID=America/New_York:20140419T200000
DTSTAMP:20260423T062244
CREATED:20140313T204516Z
LAST-MODIFIED:20140313T204516Z
UID:1325-1397937600-1397937600@metropolarity.net
SUMMARY:ROCKERS + SLASH EM UP PRESENTS race+ punk + identity in the new age DAY TWO
DESCRIPTION:ROCKERS+ SLASH EM UP PRESENTS\nrace+ punk + identity in the new age \n2 DAYS OF SHOWS/READINGS/ZINES DISTRO \nROCKERS! DAY TWO\nFRIDAY APRIL 19th \nFeaturing:::::::::: \nTHE BREATHING LIGHT (CHI)\nTROPHY WIFE\nMIGHTY PARADOCS\nALEX SMITH\nATRUTH ANARCHOPUNK (NYC) \nDJ HARAM\n \n$5-7 \nFirst Rockers of 2014 \nDon’t miss this.  \nDAY 1 here: https://www.facebook.com/events/1423252754588602/
URL:https://metropolarity.net/event/rockers-slash-em-up-presents-race-punk-identity-in-the-new-age-day-two/
LOCATION:The Great Indoors
CATEGORIES:Music Shows,Readings & Performances,Zine & Book Events
ATTACH;FMTTYPE=image/jpeg:https://metropolarity.net/wp-content/uploads/2014/03/rockers-day2-april2014.jpg
END:VEVENT
BEGIN:VEVENT
DTSTART;TZID=America/New_York:20140418T200000
DTEND;TZID=America/New_York:20140418T200000
DTSTAMP:20260423T062244
CREATED:20140313T204134Z
LAST-MODIFIED:20140313T204134Z
UID:1323-1397851200-1397851200@metropolarity.net
SUMMARY:ROCKERS + SLASH EM UP PRESENTS race+ punk + identity in the new age DAY ONE
DESCRIPTION:ROCKERS+ SLASH EM UP PRESENTS\nrace+ punk + identity in the new age \n2 DAYS OF SHOWS/READINGS/ZINES DISTRO \nROCKERS! DAY ONE\nFRIDAY APRIL 18th \nFeaturing:::::::::: \nTHE BREATHING LIGHT (CHI)\nAYE NAKO (NYC)\nMETROPOLARITY\n2 MORE SPECIAL GUEST TBA \nDJ MMGZ\n \n$5  \nHosted by Adrian Adonis \nFirst Rockers of 2014\nDon’t miss this.
URL:https://metropolarity.net/event/rockers-slash-em-up-presents-race-punk-identity-in-the-new-age/
LOCATION:LAVA zone\, 4134 Lancaster Ave\, Philadelphia\, 19104\, United States
CATEGORIES:Live Art & Exhibitions,Music Shows,Readings & Performances,Zine & Book Events
ATTACH;FMTTYPE=image/jpeg:https://metropolarity.net/wp-content/uploads/2014/03/rockers-day1-april2014.jpg
END:VEVENT
BEGIN:VEVENT
DTSTART;TZID=America/New_York:20140117T200000
DTEND;TZID=America/New_York:20140117T200000
DTSTAMP:20260423T062244
CREATED:20140116T182754Z
LAST-MODIFIED:20140116T182754Z
UID:1254-1389988800-1389988800@metropolarity.net
SUMMARY:ArtHaus at The Black Box @ Underground Arts
DESCRIPTION:This month’s art exhibition:\nJohn Fitzpatrick [Cellar Door | http://theJOHNF.com/]\nSteve Shorts [CoSM]\nBrandon Spangler [Clouds For Sale | http://bibble.deviantart.com/]\nMarc Tous [New JAAG | https://marctous.see.me/] \nLive painting by Hekkate [http://hekkate.tumblr.com/] \nLive body painting by Yenna Hill \n~~~~~~~~~~~~~~~~~~~~~~~~~~~~~~~~\nLive music at midnight from Philly’s own one-woman analogue synth-pop artist Void Vision [http://voidvision.bandcamp.com/] \nMusic of all kinds all night by DJ’s:\nLazerfeet [Psy.Fi]\nSamwas [Psy.Fi | FML | https://soundcloud.com/allthatis]\nJohn Morrison [https://soundcloud.com/john-the-liberator] \n~~~~~~~~~~~~~~~~~~~~~~~~~~~~~~~~\nVendors:\nRockers Closet [http://www.rockerscloset.com/] \n—————————————————————\n$10 | 21+ w/ ID | 8:00 PM – 2 AM | 1200 Callowhill Street \nPresented by Psy.Fi [http://psyfi-dimension.com/] \nCheck out footage of the previous ArtHaus: http://vimeo.com/79946895\n[Videoraphy by Mangig Productions]
URL:https://metropolarity.net/event/arthaus-at-the-black-box-underground-arts/
LOCATION:Underground Arts\, 1200 Callowhill Street\, Philadelphia\, PA\, United States
CATEGORIES:Live Art & Exhibitions,Music Shows,Parties
ATTACH;FMTTYPE=image/jpeg:https://metropolarity.net/wp-content/uploads/2014/01/arthaus-undergroundarts-jan2014.jpg
END:VEVENT
BEGIN:VEVENT
DTSTART;TZID=America/New_York:20131004T200000
DTEND;TZID=America/New_York:20131004T200000
DTSTAMP:20260423T062244
CREATED:20131003T004122Z
LAST-MODIFIED:20131003T004122Z
UID:1152-1380916800-1380916800@metropolarity.net
SUMMARY:SCREAMING QUEENS + EX. BY V. + ALEX SMITH + VOYAGER + HEATHER HOLEPUNCHER
DESCRIPTION:Screaming Queens (Vancouver)\nS/T – Psychedelia by Screaming Queens \nex. by v.\nshifted red by EX. By V. \nAlex Smith\nSmith is a queer black activist\, poet\, dj\, actor\, musician\, afro punk/afro-futurist chronicler of the naughty universe. Smith’s work speaks to the edge\, to the post-fringe dystopia slowly creeping upon us. Too cantankerous and flamboyant for the Saul Williams wanna-be/def poetry set\, too tribal for academia\, Smith paints viral inscriptions for an audience of armed pixie insurrectionists. He is the founder and curator of the queer-empowered Laser Life sci-fi reading series. Alex’s short story collection\, “Gang Stalk Oprah“\, with its lines hashed like an SAT-word injected SEPTA bus graffiti\, will kidnap you\, convert you\, shoot you in the leg and then set you free. \nVoyager\nhttp://sssybtch.wordpress.com/ \nHeather Holepuncher \nflyer design: negatecity.tumblr.com \nall ages\n5$ (no one turned away for lack of funds)\nsee you soon!!
URL:https://metropolarity.net/event/screaming-queens-ex-by-v-alex-smith-voyager-heather-holepuncher/
LOCATION:LAVA zone\, 4134 Lancaster Ave\, Philadelphia\, 19104\, United States
CATEGORIES:Music Shows,Readings & Performances,Some Other Jawns
ATTACH;FMTTYPE=image/jpeg:https://metropolarity.net/wp-content/uploads/2013/10/alexsmithbrosfallback.jpg
END:VEVENT
BEGIN:VEVENT
DTSTART;TZID=America/New_York:20130921T190000
DTEND;TZID=America/New_York:20130921T220000
DTSTAMP:20260423T062244
CREATED:20130910T214149Z
LAST-MODIFIED:20130910T214149Z
UID:1092-1379790000-1379800800@metropolarity.net
SUMMARY:NORTHERN LIBERTIES // ASTICKANDASTONE // FOREST KINGDOM // LONG VERA // EIGHTEEN // SEAN GLASS // VOYAGER
DESCRIPTION:–> BANDS: \nNORTHERN LIBERTIES\n“Dissonant riff-heavy freakouts…sullen gloom…melodic marches…spacey\, psychedelic angular avant-punk…cosmic effects tripouts…bizarre feverdream lyrics…zoned-out vocals.” -Crucial Blast \nA STICK AND A STONE\n“… a haunting\, dark long night…back and forth mixed emotions…powerful sex…pancakes…” -Spice Rack\n* Night Vision Vinyl Release and Art Show + One year anniversary with drummer Dan + LAST SHOW before 8 month hiatus! \nFOREST KINGDOM\n“electro-punk-techno-metal”\n* LAST SHOW for awhile with Joshua and Corey + Kickoff show before 2 month tour! \nLONG VERA\n“An unclassifiable melange of minimalism and metal-folk\, unfolding as a deeply internal confession.”\n*Short solo set with Widow all the way from NOLA! Don’t come late and miss it! \n–> BETWEEN BANDS: \nEIGHTEEN OF METROPOLARITY\nReading tales of dystopian heartbreak & cyborg tenderness \nSEAN GLASS\nPerformance artist Mega-Fuck extraordinaire! \n…all of this will be woven together by our fabulous host: + VOYAGER + (not to be confused with Ruby L.L.!) \n*SATURDAY SEPTEMBER 21ST\, 7PM\, 4134 LANCASTER AVE* \n*$5 suggested donations will be accepted to pay for a PA and to support LAVA SPACE and the hard work of all these independent artists!*
URL:https://metropolarity.net/event/northern-liberties-astickandastone-forest-kingdom-long-vera-eighteen-sean-glass-voyager/
LOCATION:LAVA zone\, 4134 Lancaster Ave\, Philadelphia\, 19104\, United States
CATEGORIES:Music Shows,Readings & Performances
ATTACH;FMTTYPE=image/jpeg:https://metropolarity.net/wp-content/uploads/2013/09/sticknstoneshow.jpg
END:VEVENT
BEGIN:VEVENT
DTSTART;TZID=America/New_York:20130721T140000
DTEND;TZID=America/New_York:20130721T220000
DTSTAMP:20260423T062244
CREATED:20130712T195032Z
LAST-MODIFIED:20130712T195032Z
UID:1002-1374415200-1374444000@metropolarity.net
SUMMARY:3rd Annual ROCKERS BBQ day #3: Workshop & Zine Fest
DESCRIPTION:2PM -4PM: WORKSHOPS \n-YOGA WITH THE HOUSE OF HAYES\n-CAPOEIRA WITH LOBO MA\n-STOP-MOTION DIY STORIES WITH HOMEGROWN.ORG\n-CIRQUE MANIKK\n-QUANTUM TIME CAPSULE – [RSVP@afrofuturistaffair@gmail]\n-SCREEN PRINTING & PATCH MAKING WITH PHILLYPRINTWORKS \n4PM -6PM: POP UP MOVIES & BBQ & ZINE FEST \nPOP UP MOVIE: SPACE IS THE PLACE\nPRESENTED BY MYTHMEDIA21 & LIBERATION MOVIE NIGHT \nBBQ PRESENTED BY MMGZ \nZINE FEST FEATURING\n-HOUSE OF HAYES\n-METROPOLARITY\n-ROCKERS\n-MOORMOTHERGODDESS  \n\n6PM -10ISH: THE SHOW/LIVE PERFORMANCES \nFEATURING \nTHE COOLOTS\nSLAPDASH SOUNDSYSTEM\nNEWSOF YOUR DEPARTURE: http://newsofyourdeparture.bandcamp.com/\nDAQUAN MOTLEY\nGIRLS DRESSED AS GIRLS\nAND SPECIAL GUEST TBA\n\nROCKERS CLOSET POP UP SHOP\nPHILLY PRINTWORKS POP UP SHOP \nPROJECTIONS BY SARAH KIM (PHILLYPRINTWORKS INTERN)
URL:https://metropolarity.net/event/3rd-annual-rockers-bbq-day-3-workshop-zine-fest/
LOCATION:House of Hayes\, 1822 N Hancock St\, Philadelphia\, PA\, 19122\, United States
CATEGORIES:Afrofuturist Sciences,Music Shows,Parties,Readings & Performances,Workshops,Zine & Book Events
ATTACH;FMTTYPE=image/jpeg:https://metropolarity.net/wp-content/uploads/2013/07/rockersbbqday3.jpg
ORGANIZER;CN="ROCKERS":MAILTO:sdfsbooking@gmail.com
END:VEVENT
END:VCALENDAR